BEGIN:VCALENDAR
VERSION:2.0
PRODID:-//Galactic Starkeepers
CALSCALE:GREGORIAN
METHOD:PUBLISH
X-WR-CALNAME:Galactic Starkeepers
X-ORIGINAL-URL:https://www.galacticstarkeepers.com/product/cosmos-of-love/
X-WR-CALDESC:Cosmos of Love
BEGIN:VEVENT
DTSTART;TZID=America/Halifax:20230214T120000
DTEND;TZID=America/Halifax:20230214T160000
SUMMARY:Cosmos of Love
DESCRIPTION:
URL:https://www.galacticstarkeepers.com/product/cosmos-of-love/
LOCATION:431 AZ-179 A7 Sedona, AZ 86336
END:VEVENT
END:VCALENDAR
